BEGIN:VCALENDAR
VERSION:2.0
PRODID:-//hacksw/handcal//NONSGML v1.0//EN
BEGIN:VEVENT
UID: event-47058@www.lacma.org
DTSTAMP;TZID=UTC:20250708T013000
DTSTART;TZID=UTC:20250708T013000
DTEND;TZID=UTC:20250708T040000

SUMMARY:Member Monday | David Geffen Galleries Preview, Realms of the Dharma, and More!
DESCRIPTION: Member Mondays are extended evening hours for select exhibitions, for LACMA members only.&nbsp;This July, bring along a couple of friends for free and... - https://www.lacma.org/event/member-monday-jul7
END:VEVENT
END:VCALENDAR