BEGIN:VCALENDAR
VERSION:2.0
PRODID:-//hacksw/handcal//NONSGML v1.0//EN
BEGIN:VEVENT
UID: event-47560@www.lacma.org
DTSTAMP;TZID=UTC:20260611T180000
DTSTART;TZID=UTC:20260611T180000
DTEND;TZID=UTC:20260612T010000

SUMMARY:Member Previews—Fashioning Chinese Women: Empire to Modernity
DESCRIPTION: Fashioning Chinese Women: Empire to Modernity traces a century of transformation through more than 70 exquisite ensembles from Shanghai, Hong Kong, an... - https://www.lacma.org/event/member-previews-fashioning-chinese-women-jun11
END:VEVENT
END:VCALENDAR