BEGIN:VCALENDAR
VERSION:2.0
PRODID:-//hacksw/handcal//NONSGML v1.0//EN
BEGIN:VEVENT
UID: event-48789@www.lacma.org
DTSTAMP;TZID=UTC:20260503T170000
DTSTART;TZID=UTC:20260503T170000
DTEND;TZID=UTC:20260503T210000

SUMMARY:NexGenLA Celebration: Family Fun Begins with the David Geffen Galleries
DESCRIPTION: Explore, create, and celebrate art and imagination at a free, fun-filled day for NexGenLA members and their families! Be among the first visitors to e... - https://www.lacma.org/event/nexgenla-celebration-family-fun-begins-david-geffen-galleries
END:VEVENT
END:VCALENDAR