BEGIN:VCALENDAR
VERSION:2.0
PRODID:-//hacksw/handcal//NONSGML v1.0//EN
BEGIN:VEVENT
UID: event-48962@www.lacma.org
DTSTAMP;TZID=UTC:20260603T223000
DTSTART;TZID=UTC:20260603T223000
DTEND;TZID=UTC:20260604T000000

SUMMARY:Communities Create LA! Weaving Stories into Paper
DESCRIPTION: Weave colored paper to create patterns and designs, blending traditional weaving techniques and contemporary themes inspired by Melissa Cody’s jacqu... - https://www.lacma.org/event/ccla-weaving-stories-paper
END:VEVENT
END:VCALENDAR