BEGIN:VCALENDAR
VERSION:2.0
PRODID:-//hacksw/handcal//NONSGML v1.0//EN
BEGIN:VEVENT
UID: event-48986@www.lacma.org
DTSTAMP;TZID=UTC:20260517T210000
DTSTART;TZID=UTC:20260517T210000
DTEND;TZID=UTC:20260517T220000

SUMMARY:LACMA × Metro Art: Todd Gray's Histories in the Plural
DESCRIPTION: Hear from artist Todd Gray at this rare inside look at the vision behind some of L.A.’s most engaging contemporary art projects. Gray will be in con... - https://www.lacma.org/event/lacma-x-metro-art-todd-gray-histories-plural
END:VEVENT
END:VCALENDAR