BEGIN:VCALENDAR
VERSION:2.0
PRODID:-//hacksw/handcal//NONSGML v1.0//EN
BEGIN:VEVENT
UID: event-48992@www.lacma.org
DTSTAMP;TZID=UTC:20260502T010000
DTSTART;TZID=UTC:20260502T010000
DTEND;TZID=UTC:20260502T030000

SUMMARY:Jazz at LACMA: Michelle Coltrane Celebrates the Coltrane Centennial
DESCRIPTION: Celebrate L.A.'s finest jazz musicians with Jazz at LACMA, presented Friday evenings from May through October. Vocalist and composer Michelle Coltrane... - https://www.lacma.org/event/jazz-at-lacma-michelle-coltrane
END:VEVENT
END:VCALENDAR