BEGIN:VCALENDAR
VERSION:2.0
PRODID:-//hacksw/handcal//NONSGML v1.0//EN
BEGIN:VEVENT
UID: event-48994@www.lacma.org
DTSTAMP;TZID=UTC:20260516T010000
DTSTART;TZID=UTC:20260516T010000
DTEND;TZID=UTC:20260516T030000

SUMMARY:Jazz at LACMA: Julius Rodriguez Trio
DESCRIPTION: Celebrate L.A.'s finest jazz musicians with Jazz at LACMA, presented Friday evenings from May through October.&nbsp;This week, join us for a concert w... - https://www.lacma.org/event/jazz-at-lacma-julius-rodriguez-trio
END:VEVENT
END:VCALENDAR