BEGIN:VCALENDAR
VERSION:2.0
PRODID:-//hacksw/handcal//NONSGML v1.0//EN
BEGIN:VEVENT
UID: event-48995@www.lacma.org
DTSTAMP;TZID=UTC:20260523T010000
DTSTART;TZID=UTC:20260523T010000
DTEND;TZID=UTC:20260523T030000

SUMMARY:Jazz at LACMA: Brian Swartz Quintet
DESCRIPTION: Celebrate L.A.'s finest jazz musicians with Jazz at LACMA, presented Friday evenings from May through October. This week, join us for a concert with B... - https://www.lacma.org/event/jazz-at-lacma-brian-swartz
END:VEVENT
END:VCALENDAR