BEGIN:VCALENDAR
VERSION:2.0
PRODID:-//hacksw/handcal//NONSGML v1.0//EN
BEGIN:VEVENT
UID: event-48997@www.lacma.org
DTSTAMP;TZID=UTC:20260606T010000
DTSTART;TZID=UTC:20260606T010000
DTEND;TZID=UTC:20260606T030000

SUMMARY:Jazz at LACMA: Paul Cornish Trio
DESCRIPTION: Celebrate L.A.'s finest jazz musicians with Jazz at LACMA, presented Friday evenings from May through October. This week, join us for a concert with P... - https://www.lacma.org/event/jazz-at-lacma-paul-cornish
END:VEVENT
END:VCALENDAR