BEGIN:VCALENDAR
VERSION:2.0
PRODID:-//hacksw/handcal//NONSGML v1.0//EN
BEGIN:VEVENT
UID: event-48999@www.lacma.org
DTSTAMP;TZID=UTC:20260620T010000
DTSTART;TZID=UTC:20260620T010000
DTEND;TZID=UTC:20260620T030000

SUMMARY:Jazz at LACMA: Marvin "Smitty" Smith Septet
DESCRIPTION: Celebrate L.A.'s finest jazz musicians with Jazz at LACMA, presented Friday evenings from May through October. This week, join us for a concert with t... - https://www.lacma.org/event/jazz-at-lacma-marvin-smitty-smith
END:VEVENT
END:VCALENDAR