BEGIN:VCALENDAR
VERSION:2.0
PRODID:-//hacksw/handcal//NONSGML v1.0//EN
BEGIN:VEVENT
UID: event-49002@www.lacma.org
DTSTAMP;TZID=UTC:20260531T000000
DTSTART;TZID=UTC:20260531T000000
DTEND;TZID=UTC:20260531T020000

SUMMARY:Latin Sounds: SitaroSon
DESCRIPTION: Spend your Saturday evenings with world-renowned artists performing everything from Indigenous music to the latest sounds from Argentina, Brazil, Cuba... - https://www.lacma.org/event/latin-sounds-sitaroson
END:VEVENT
END:VCALENDAR