BEGIN:VCALENDAR
VERSION:2.0
PRODID:-//hacksw/handcal//NONSGML v1.0//EN
BEGIN:VEVENT
UID: event-49005@www.lacma.org
DTSTAMP;TZID=UTC:20260620T230000
DTSTART;TZID=UTC:20260620T230000
DTEND;TZID=UTC:20260621T010000

SUMMARY:Latin Sounds: Roosevelt, "El Presidente de la Salsa"
DESCRIPTION: Spend your Saturday evenings with world-renowned artists performing everything from Indigenous music to the latest sounds from Argentina, Brazil, Cuba... - https://www.lacma.org/event/latin-sounds-roosevelt-el-presidente
END:VEVENT
END:VCALENDAR