BEGIN:VCALENDAR
VERSION:2.0
PRODID:-//hacksw/handcal//NONSGML v1.0//EN
BEGIN:VEVENT
UID: event-49011@www.lacma.org
DTSTAMP;TZID=UTC:20260618T223000
DTSTART;TZID=UTC:20260618T223000
DTEND;TZID=UTC:20260618T233000

SUMMARY:Behind-the-Scenes: Designing LACMA’s Collection in the David Geffen Galleries
DESCRIPTION: How do you design spaces to hold thousands of works of art? Get an insider's look at LACMA’s David Geffen Galleries with associate director of exhib... - https://www.lacma.org/event/behind-scenes
END:VEVENT
END:VCALENDAR