BEGIN:VCALENDAR
VERSION:2.0
PRODID:-//hacksw/handcal//NONSGML v1.0//EN
BEGIN:VEVENT
UID: event-49012@www.lacma.org
DTSTAMP;TZID=UTC:20260618T220000
DTSTART;TZID=UTC:20260618T220000
DTEND;TZID=UTC:20260619T000000

SUMMARY:Watch Party: South Africa vs. Czechia
DESCRIPTION: Why choose between seeing sport-inspired art and watching soccer live? Explore the exhibition Fútbol Is Life: Animated Sportraits by Lyndon J. Barroi... - https://www.lacma.org/event/world-cup-watch-party
END:VEVENT
END:VCALENDAR