BEGIN:VCALENDAR
VERSION:2.0
PRODID:-//hacksw/handcal//NONSGML v1.0//EN
BEGIN:VEVENT
UID: event-49013@www.lacma.org
DTSTAMP;TZID=UTC:20260621T190000
DTSTART;TZID=UTC:20260621T190000
DTEND;TZID=UTC:20260621T220000

SUMMARY:Let’s Play: Soccer Juggling
DESCRIPTION: Alongside the exhibition Fútbol Is Life: Animated Sportraits by Lyndon J. Barrois, Sr. and the World Cup, pick up some soccer basics (and not-so-basi... - https://www.lacma.org/event/lets-play-soccer-juggling
END:VEVENT
END:VCALENDAR