BEGIN:VCALENDAR
VERSION:2.0
PRODID:-//hacksw/handcal//NONSGML v1.0//EN
BEGIN:VEVENT
UID: event-49016@www.lacma.org
DTSTAMP;TZID=UTC:20260622T230000
DTSTART;TZID=UTC:20260622T230000
DTEND;TZID=UTC:20260623T000000

SUMMARY:Mindful Monday: Cultivating Empathy and Connectedness @ Home
DESCRIPTION: At this live, virtual gathering led by LACMA educators, we will explore works from the museum's permanent collection. The program includes opportuniti... - https://www.lacma.org/event/mindful-monday-jun-22
END:VEVENT
END:VCALENDAR