BEGIN:VCALENDAR
VERSION:2.0
PRODID:-//hacksw/handcal//NONSGML v1.0//EN
BEGIN:VEVENT
UID: event-49527@www.lacma.org
DTSTAMP;TZID=UTC:20260425T020000
DTSTART;TZID=UTC:20260425T020000
DTEND;TZID=UTC:20260501T065959

SUMMARY:Members-Only Advance Screening—Widow's Bay and Post Screening Conversation
DESCRIPTION: LACMA members are invited to join FILM at LACMA for a special advance screening of Widow's Bay, followed by a conversation with director, producer Hir... - https://www.lacma.org/event/exclusive-member-screening-widows-bay
END:VEVENT
END:VCALENDAR